View In:
ArcGIS JavaScript
ArcGIS Online Map Viewer
ArcGIS Earth
ArcMap
View Footprint In:
ArcGIS Online Map Viewer
Service Description: Historical map showing the First and Second Welland Canal routes where the Chippewa River enters the Niagara River, the Chippewa cut, Hog Island, the Old Fort, barracks, line of piles, descriptive notes.
"589" printed in bottom corner margins.
Depths shown by soundings.
Scale [ca. 1:1,200]
Map date: 1844
Digital reproduction of map in the Public Archives of Canada. National Map Collection. Library and Archives Canada.
Georeferenced and modified from NMC Map number 3770 by Map, Data and GIS Library, Brock University.
Name: EarlyNiagara/WellandCanalChippewa1844NMC3770
Description: Historical map showing the First and Second Welland Canal routes where the Chippewa River enters the Niagara River, the Chippewa cut, Hog Island, the Old Fort, barracks, line of piles, descriptive notes.
"589" printed in bottom corner margins.
Depths shown by soundings.
Scale [ca. 1:1,200]
Map date: 1844
Digital reproduction of map in the Public Archives of Canada. National Map Collection. Library and Archives Canada.
Georeferenced and modified from NMC Map number 3770 by Map, Data and GIS Library, Brock University.
Single Fused Map Cache: false
Extent:
XMin: 658530.1955187384
YMin: 4769235.568620394
XMax: 659399.2200457384
YMax: 4770071.727099394
Spatial Reference: 26917
(26917)
Initial Extent:
XMin: 658530.1955187384
YMin: 4769235.568620394
XMax: 659399.2200457384
YMax: 4770071.727099394
Spatial Reference: 26917
(26917)
Full Extent:
XMin: 658530.1955187384
YMin: 4769235.568620394
XMax: 659399.2200457384
YMax: 4770071.727099394
Spatial Reference: 26917
(26917)
Pixel Size X: 0.1283830000000045
Pixel Size Y: 0.12838300000006783
Band Count: 1
Pixel Type: U16
RasterFunction Infos: {"rasterFunctionInfos": [{
"name": "None",
"description": "",
"help": ""
}]}
Mensuration Capabilities: Basic
Has Histograms: true
Has Colormap: false
Has Multi Dimensions : false
Rendering Rule:
Min Scale: 0
Max Scale: 0
Copyright Text: Descriptive notes signed by S. Power.
Map, Data & GIS Library, Brock University.
Service Data Type: esriImageServiceDataTypeGeneric
Min Values: 16
Max Values: 255
Mean Values: 190.52108849518
Standard Deviation Values: 38.906424816776
Object ID Field:
Fields:
None
Default Mosaic Method: Center
Allowed Mosaic Methods:
SortField:
SortValue: null
Mosaic Operator: First
Default Compression Quality: 75
Default Resampling Method: Bilinear
Max Record Count: null
Max Image Height: 4100
Max Image Width: 15000
Max Download Image Count: null
Max Mosaic Image Count: null
Allow Raster Function: true
Allow Copy: true
Allow Analysis: true
Allow Compute TiePoints: false
Supports Statistics: false
Supports Advanced Queries: false
Use StandardizedQueries: true
Raster Type Infos:
Name: Raster Dataset
Description: Supports all ArcGIS Raster Datasets
Help:
Has Raster Attribute Table: false
Edit Fields Info: null
Ownership Based AccessControl For Rasters: null
Child Resources:
Info
Histograms
Statistics
Key Properties
Legend
Raster Function Infos
Supported Operations:
Export Image
Identify
Measure
Compute Histograms
Compute Statistics Histograms
Get Samples
Compute Class Statistics
Query Boundary
Compute Pixel Location
Compute Angles
Validate
Project