View In:
ArcGIS JavaScript
ArcGIS Online Map Viewer
ArcGIS Earth
ArcMap
View Footprint In:
ArcGIS Online Map Viewer
Service Description: Map date: 1928
Scale [1:253,440]. 4 mi. = 1 in.
Digital reproduction of map (25 x 25 cm.)
Georeferenced and modified from Brock call # G 3463 W4 P2 1928 O58, by Map, Data and GIS Library, Brock University.
Name: EarlyNiagara/WellandCounty1928
Description: Map date: 1928
Scale [1:253,440]. 4 mi. = 1 in.
Digital reproduction of map (25 x 25 cm.)
Georeferenced and modified from Brock call # G 3463 W4 P2 1928 O58, by Map, Data and GIS Library, Brock University.
Single Fused Map Cache: false
Extent:
XMin: -8869320.022374485
YMin: 5246685.320643156
XMax: -8769780.396657486
YMax: 5344993.145601156
Spatial Reference: 102100
(3857)
Initial Extent:
XMin: -8869320.022374485
YMin: 5246685.320643156
XMax: -8769780.396657486
YMax: 5344993.145601156
Spatial Reference: 102100
(3857)
Full Extent:
XMin: -8869320.022374485
YMin: 5246685.320643156
XMax: -8769780.396657486
YMax: 5344993.145601156
Spatial Reference: 102100
(3857)
Pixel Size X: 16.87398299999986
Pixel Size Y: 16.873983000000056
Band Count: 3
Pixel Type: U16
RasterFunction Infos: {"rasterFunctionInfos": [{
"name": "None",
"description": "",
"help": ""
}]}
Mensuration Capabilities: Basic
Has Histograms: true
Has Colormap: false
Has Multi Dimensions : false
Rendering Rule:
Min Scale: 0
Max Scale: 0
Copyright Text: Published by Ontario. Department of Public Highways
Map, Data & GIS Library, Brock University.
Service Data Type: esriImageServiceDataTypeGeneric
Min Values: 0, 0, 0
Max Values: 236, 230, 204
Mean Values: 185.98230968478, 178.10946761811, 139.5636922815
Standard Deviation Values: 42.250239782794, 38.741582274868, 30.784947098187
Object ID Field:
Fields:
None
Default Mosaic Method: Center
Allowed Mosaic Methods:
SortField:
SortValue: null
Mosaic Operator: First
Default Compression Quality: 75
Default Resampling Method: Bilinear
Max Record Count: null
Max Image Height: 4100
Max Image Width: 15000
Max Download Image Count: null
Max Mosaic Image Count: null
Allow Raster Function: true
Allow Copy: true
Allow Analysis: true
Allow Compute TiePoints: false
Supports Statistics: false
Supports Advanced Queries: false
Use StandardizedQueries: true
Raster Type Infos:
Name: Raster Dataset
Description: Supports all ArcGIS Raster Datasets
Help:
Has Raster Attribute Table: false
Edit Fields Info: null
Ownership Based AccessControl For Rasters: null
Child Resources:
Info
Histograms
Statistics
Key Properties
Legend
Raster Function Infos
Supported Operations:
Export Image
Identify
Measure
Compute Histograms
Compute Statistics Histograms
Get Samples
Compute Class Statistics
Query Boundary
Compute Pixel Location
Compute Angles
Validate
Project