View In:
ArcGIS JavaScript
ArcGIS Online Map Viewer
ArcGIS Earth
ArcMap
View Footprint In:
ArcGIS Online Map Viewer
Service Description: Map date: 1935 Scale [ca. 1:126,720] Digital reproduction of map (31 x 48 cm.) "Surveyed in 1935." 'Soil survey report ; no. 5.' Georeferenced and modified from Brock call # G 3463 W4 J3 1935 O5, by Map, Data and GIS Library, Brock University.
Name: EarlyNiagara/WellandCounty1935
Description: Map date: 1935 Scale [ca. 1:126,720] Digital reproduction of map (31 x 48 cm.) "Surveyed in 1935." 'Soil survey report ; no. 5.' Georeferenced and modified from Brock call # G 3463 W4 J3 1935 O5, by Map, Data and GIS Library, Brock University.
Single Fused Map Cache: false
Extent:
XMin: -8865505.407979928
YMin: 5270173.002186978
XMax: -8779191.075664928
YMax: 5340319.071261978
Spatial Reference: 102100
(3857)
Initial Extent:
XMin: -8865505.407979928
YMin: 5270173.002186978
XMax: -8779191.075664928
YMax: 5340319.071261978
Spatial Reference: 102100
(3857)
Full Extent:
XMin: -8865505.407979928
YMin: 5270173.002186978
XMax: -8779191.075664928
YMax: 5340319.071261978
Spatial Reference: 102100
(3857)
Pixel Size X: 14.752064999999961
Pixel Size Y: 14.752064999999904
Band Count: 3
Pixel Type: U16
RasterFunction Infos: {"rasterFunctionInfos": [{
"name": "None",
"description": "",
"help": ""
}]}
Mensuration Capabilities: Basic
Has Histograms: true
Has Colormap: false
Has Multi Dimensions : false
Rendering Rule:
Min Scale: 0
Max Scale: 0
Copyright Text: Published: Canada. Experimental Farms Service.
Map, Data & GIS Library, Brock University.
Service Data Type: esriImageServiceDataTypeGeneric
Min Values: 57, 57, 57
Max Values: 255, 255, 255
Mean Values: 202.77491948555, 196.76782481619, 187.41642479633
Standard Deviation Values: 46.142860944138, 44.845011017548, 44.564393018944
Object ID Field:
Fields:
None
Default Mosaic Method: Center
Allowed Mosaic Methods:
SortField:
SortValue: null
Mosaic Operator: First
Default Compression Quality: 75
Default Resampling Method: Bilinear
Max Record Count: null
Max Image Height: 4100
Max Image Width: 15000
Max Download Image Count: null
Max Mosaic Image Count: null
Allow Raster Function: true
Allow Copy: true
Allow Analysis: true
Allow Compute TiePoints: false
Supports Statistics: false
Supports Advanced Queries: false
Use StandardizedQueries: true
Raster Type Infos:
Name: Raster Dataset
Description: Supports all ArcGIS Raster Datasets
Help:
Has Raster Attribute Table: false
Edit Fields Info: null
Ownership Based AccessControl For Rasters: null
Child Resources:
Info
Histograms
Statistics
Key Properties
Legend
Raster Function Infos
Supported Operations:
Export Image
Identify
Measure
Compute Histograms
Compute Statistics Histograms
Get Samples
Compute Class Statistics
Query Boundary
Compute Pixel Location
Compute Angles
Validate
Project