View In:
ArcGIS JavaScript
ArcGIS Online Map Viewer
ArcGIS Earth
ArcMap
View Footprint In:
ArcGIS Online Map Viewer
Service Description: FireInsurancePlans/Merritton_1897_index_map_1
Name: FireInsurancePlans/Merritton_1897_index_map_1
Description:
Single Fused Map Cache: false
Extent:
XMin: 644641.7325810307
YMin: 4776535.693555068
XMax: 646200.0142427605
YMax: 4778747.168921777
Spatial Reference: 26917
(26917)
Initial Extent:
XMin: 644641.7325810307
YMin: 4776535.693555068
XMax: 646200.0142427605
YMax: 4778747.168921777
Spatial Reference: 26917
(26917)
Full Extent:
XMin: 644641.7325810307
YMin: 4776535.693555068
XMax: 646200.0142427605
YMax: 4778747.168921777
Spatial Reference: 26917
(26917)
Pixel Size X: 0.5884749477831548
Pixel Size Y: 0.5735153959307112
Band Count: 3
Pixel Type: U8
RasterFunction Infos: {"rasterFunctionInfos": [{
"name": "None",
"description": "",
"help": ""
}]}
Mensuration Capabilities: Basic
Has Histograms: true
Has Colormap: false
Has Multi Dimensions : false
Rendering Rule:
Min Scale: 0
Max Scale: 0
Copyright Text:
Service Data Type: esriImageServiceDataTypeRGB
Min Values: 32, 28, 23
Max Values: 255, 255, 255
Mean Values: 186.71850329772, 168.81539774792, 148.32902298062
Standard Deviation Values: 36.881069989311, 33.988446253659, 31.685851670754
Object ID Field:
Fields:
None
Default Mosaic Method: Center
Allowed Mosaic Methods:
SortField:
SortValue: null
Mosaic Operator: First
Default Compression Quality: 75
Default Resampling Method: Bilinear
Max Record Count: null
Max Image Height: 4100
Max Image Width: 15000
Max Download Image Count: null
Max Mosaic Image Count: null
Allow Raster Function: true
Allow Copy: true
Allow Analysis: true
Allow Compute TiePoints: false
Supports Statistics: false
Supports Advanced Queries: false
Use StandardizedQueries: true
Raster Type Infos:
Name: Raster Dataset
Description: Supports all ArcGIS Raster Datasets
Help:
Has Raster Attribute Table: false
Edit Fields Info: null
Ownership Based AccessControl For Rasters: null
Child Resources:
Info
Histograms
Statistics
Key Properties
Legend
Raster Function Infos
Supported Operations:
Export Image
Identify
Measure
Compute Histograms
Compute Statistics Histograms
Get Samples
Compute Class Statistics
Query Boundary
Compute Pixel Location
Compute Angles
Validate
Project