View In:
ArcGIS JavaScript
ArcGIS Online Map Viewer
ArcGIS Earth
ArcMap
View Footprint In:
ArcGIS Online Map Viewer
Service Description: FireInsurancePlans/Merritton_1897_map_1a
Name: FireInsurancePlans/Merritton_1897_map_1a
Description:
Single Fused Map Cache: false
Extent:
XMin: 645799.455575086
YMin: 4777271.452528161
XMax: 646113.4922584819
YMax: 4777594.889228602
Spatial Reference: 26917
(26917)
Initial Extent:
XMin: 645799.455575086
YMin: 4777271.452528161
XMax: 646113.4922584819
YMax: 4777594.889228602
Spatial Reference: 26917
(26917)
Full Extent:
XMin: 645799.455575086
YMin: 4777271.452528161
XMax: 646113.4922584819
YMax: 4777594.889228602
Spatial Reference: 26917
(26917)
Pixel Size X: 0.09324129554512192
Pixel Size Y: 0.1142078744494856
Band Count: 3
Pixel Type: U8
RasterFunction Infos: {"rasterFunctionInfos": [{
"name": "None",
"description": "",
"help": ""
}]}
Mensuration Capabilities: Basic
Has Histograms: true
Has Colormap: false
Has Multi Dimensions : false
Rendering Rule:
Min Scale: 0
Max Scale: 0
Copyright Text:
Service Data Type: esriImageServiceDataTypeRGB
Min Values: 36, 29, 24
Max Values: 215, 200, 187
Mean Values: 194.85158483129, 177.03151902419, 155.47273084499
Standard Deviation Values: 28.499084260168, 25.888063559169, 23.331006443489
Object ID Field:
Fields:
None
Default Mosaic Method: Center
Allowed Mosaic Methods:
SortField:
SortValue: null
Mosaic Operator: First
Default Compression Quality: 75
Default Resampling Method: Bilinear
Max Record Count: null
Max Image Height: 4100
Max Image Width: 15000
Max Download Image Count: null
Max Mosaic Image Count: null
Allow Raster Function: true
Allow Copy: true
Allow Analysis: true
Allow Compute TiePoints: false
Supports Statistics: false
Supports Advanced Queries: false
Use StandardizedQueries: true
Raster Type Infos:
Name: Raster Dataset
Description: Supports all ArcGIS Raster Datasets
Help:
Has Raster Attribute Table: false
Edit Fields Info: null
Ownership Based AccessControl For Rasters: null
Child Resources:
Info
Histograms
Statistics
Key Properties
Legend
Raster Function Infos
Supported Operations:
Export Image
Identify
Measure
Compute Histograms
Compute Statistics Histograms
Get Samples
Compute Class Statistics
Query Boundary
Compute Pixel Location
Compute Angles
Validate
Project