View In:
ArcGIS JavaScript
ArcGIS Online Map Viewer
ArcGIS Earth
ArcMap
View Footprint In:
ArcGIS Online Map Viewer
Service Description: FireInsurancePlans/Merritton_1897_map_1b
Name: FireInsurancePlans/Merritton_1897_map_1b
Description:
Single Fused Map Cache: false
Extent:
XMin: 645189.5980864905
YMin: 4777070.298222772
XMax: 645791.866419951
YMax: 4777764.684490091
Spatial Reference: 26917
(26917)
Initial Extent:
XMin: 645189.5980864905
YMin: 4777070.298222772
XMax: 645791.866419951
YMax: 4777764.684490091
Spatial Reference: 26917
(26917)
Full Extent:
XMin: 645189.5980864905
YMin: 4777070.298222772
XMax: 645791.866419951
YMax: 4777764.684490091
Spatial Reference: 26917
(26917)
Pixel Size X: 0.10037805557673952
Pixel Size Y: 0.1598495090514092
Band Count: 3
Pixel Type: U8
RasterFunction Infos: {"rasterFunctionInfos": [{
"name": "None",
"description": "",
"help": ""
}]}
Mensuration Capabilities: Basic
Has Histograms: true
Has Colormap: false
Has Multi Dimensions : false
Rendering Rule:
Min Scale: 0
Max Scale: 0
Copyright Text:
Service Data Type: esriImageServiceDataTypeRGB
Min Values: 33, 31, 23
Max Values: 255, 255, 255
Mean Values: 201.16676956724, 185.59273357887, 166.36538915748
Standard Deviation Values: 29.998116507537, 31.475939627499, 35.869154392519
Object ID Field:
Fields:
None
Default Mosaic Method: Center
Allowed Mosaic Methods:
SortField:
SortValue: null
Mosaic Operator: First
Default Compression Quality: 75
Default Resampling Method: Bilinear
Max Record Count: null
Max Image Height: 4100
Max Image Width: 15000
Max Download Image Count: null
Max Mosaic Image Count: null
Allow Raster Function: true
Allow Copy: true
Allow Analysis: true
Allow Compute TiePoints: false
Supports Statistics: false
Supports Advanced Queries: false
Use StandardizedQueries: true
Raster Type Infos:
Name: Raster Dataset
Description: Supports all ArcGIS Raster Datasets
Help:
Has Raster Attribute Table: false
Edit Fields Info: null
Ownership Based AccessControl For Rasters: null
Child Resources:
Info
Histograms
Statistics
Key Properties
Legend
Raster Function Infos
Supported Operations:
Export Image
Identify
Measure
Compute Histograms
Compute Statistics Histograms
Get Samples
Compute Class Statistics
Query Boundary
Compute Pixel Location
Compute Angles
Validate
Project