View In:
ArcGIS JavaScript
ArcGIS Online Map Viewer
ArcGIS Earth
ArcMap
View Footprint In:
ArcGIS Online Map Viewer
Service Description: FireInsurancePlans/Merritton_1897_map_2_tif
Name: FireInsurancePlans/Merritton_1897_map_2_tif
Description:
Single Fused Map Cache: false
Extent:
XMin: 645051.5391086716
YMin: 4777309.469284089
XMax: 645458.7015717173
YMax: 4777772.854876974
Spatial Reference: 26917
(26917)
Initial Extent:
XMin: 645051.5391086716
YMin: 4777309.469284089
XMax: 645458.7015717173
YMax: 4777772.854876974
Spatial Reference: 26917
(26917)
Full Extent:
XMin: 645051.5391086716
YMin: 4777309.469284089
XMax: 645458.7015717173
YMax: 4777772.854876974
Spatial Reference: 26917
(26917)
Pixel Size X: 0.06786041050761317
Pixel Size Y: 0.06480917382998379
Band Count: 3
Pixel Type: U8
RasterFunction Infos: {"rasterFunctionInfos": [{
"name": "None",
"description": "",
"help": ""
}]}
Mensuration Capabilities: Basic
Has Histograms: true
Has Colormap: false
Has Multi Dimensions : false
Rendering Rule:
Min Scale: 0
Max Scale: 0
Copyright Text:
Service Data Type: esriImageServiceDataTypeRGB
Min Values: 35, 31, 21
Max Values: 255, 255, 255
Mean Values: 199.64796752917, 182.20303869463, 161.05832165494
Standard Deviation Values: 19.413921779781, 17.59965495372, 16.491118383946
Object ID Field:
Fields:
None
Default Mosaic Method: Center
Allowed Mosaic Methods:
SortField:
SortValue: null
Mosaic Operator: First
Default Compression Quality: 75
Default Resampling Method: Bilinear
Max Record Count: null
Max Image Height: 4100
Max Image Width: 15000
Max Download Image Count: null
Max Mosaic Image Count: null
Allow Raster Function: true
Allow Copy: true
Allow Analysis: true
Allow Compute TiePoints: false
Supports Statistics: false
Supports Advanced Queries: false
Use StandardizedQueries: true
Raster Type Infos:
Name: Raster Dataset
Description: Supports all ArcGIS Raster Datasets
Help:
Has Raster Attribute Table: false
Edit Fields Info: null
Ownership Based AccessControl For Rasters: null
Child Resources:
Info
Histograms
Statistics
Key Properties
Legend
Raster Function Infos
Supported Operations:
Export Image
Identify
Measure
Compute Histograms
Compute Statistics Histograms
Get Samples
Compute Class Statistics
Query Boundary
Compute Pixel Location
Compute Angles
Validate
Project