View In:
ArcGIS JavaScript
ArcGIS Online Map Viewer
ArcGIS Earth
ArcMap
View Footprint In:
ArcGIS Online Map Viewer
Service Description: FireInsurancePlans/Merritton_map_3_1897_geo
Name: FireInsurancePlans/Merritton_map_3_1897_geo
Description:
Single Fused Map Cache: false
Extent:
XMin: 645125.2240368685
YMin: 4777716.340116272
XMax: 645492.47421578
YMax: 4778113.008661716
Spatial Reference: 26917
(26917)
Initial Extent:
XMin: 645125.2240368685
YMin: 4777716.340116272
XMax: 645492.47421578
YMax: 4778113.008661716
Spatial Reference: 26917
(26917)
Full Extent:
XMin: 645125.2240368685
YMin: 4777716.340116272
XMax: 645492.47421578
YMax: 4778113.008661716
Spatial Reference: 26917
(26917)
Pixel Size X: 0.06120836315191506
Pixel Size Y: 0.05538516412238145
Band Count: 3
Pixel Type: U8
RasterFunction Infos: {"rasterFunctionInfos": [{
"name": "None",
"description": "",
"help": ""
}]}
Mensuration Capabilities: Basic
Has Histograms: true
Has Colormap: false
Has Multi Dimensions : false
Rendering Rule:
Min Scale: 0
Max Scale: 0
Copyright Text:
Service Data Type: esriImageServiceDataTypeRGB
Min Values: 35, 25, 21
Max Values: 223, 219, 208
Mean Values: 199.98526456766, 181.24821413944, 159.88864167356
Standard Deviation Values: 19.697937024919, 19.348259045464, 18.895314359791
Object ID Field:
Fields:
None
Default Mosaic Method: Center
Allowed Mosaic Methods:
SortField:
SortValue: null
Mosaic Operator: First
Default Compression Quality: 75
Default Resampling Method: Bilinear
Max Record Count: null
Max Image Height: 4100
Max Image Width: 15000
Max Download Image Count: null
Max Mosaic Image Count: null
Allow Raster Function: true
Allow Copy: true
Allow Analysis: true
Allow Compute TiePoints: false
Supports Statistics: false
Supports Advanced Queries: false
Use StandardizedQueries: true
Raster Type Infos:
Name: Raster Dataset
Description: Supports all ArcGIS Raster Datasets
Help:
Has Raster Attribute Table: false
Edit Fields Info: null
Ownership Based AccessControl For Rasters: null
Child Resources:
Info
Histograms
Statistics
Key Properties
Legend
Raster Function Infos
Supported Operations:
Export Image
Identify
Measure
Compute Histograms
Compute Statistics Histograms
Get Samples
Compute Class Statistics
Query Boundary
Compute Pixel Location
Compute Angles
Validate
Project