View In:
ArcGIS JavaScript
ArcGIS Online Map Viewer
ArcGIS Earth
ArcMap
View Footprint In:
ArcGIS Online Map Viewer
Service Description: FireInsurancePlans/Thorold_1897_map_2
Name: FireInsurancePlans/Thorold_1897_map_2
Description:
Single Fused Map Cache: false
Extent:
XMin: 646259.8612260969
YMin: 4776007.948880766
XMax: 646655.5556263612
YMax: 4776336.043028757
Spatial Reference: 26917
(26917)
Initial Extent:
XMin: 646259.8612260969
YMin: 4776007.948880766
XMax: 646655.5556263612
YMax: 4776336.043028757
Spatial Reference: 26917
(26917)
Full Extent:
XMin: 646259.8612260969
YMin: 4776007.948880766
XMax: 646655.5556263612
YMax: 4776336.043028757
Spatial Reference: 26917
(26917)
Pixel Size X: 0.06594906671071658
Pixel Size Y: 0.04568920038871871
Band Count: 3
Pixel Type: U8
RasterFunction Infos: {"rasterFunctionInfos": [{
"name": "None",
"description": "",
"help": ""
}]}
Mensuration Capabilities: Basic
Has Histograms: true
Has Colormap: false
Has Multi Dimensions : false
Rendering Rule:
Min Scale: 0
Max Scale: 0
Copyright Text:
Service Data Type: esriImageServiceDataTypeRGB
Min Values: 37, 26, 18
Max Values: 225, 220, 215
Mean Values: 198.69574388434, 179.39296866733, 160.03425850622
Standard Deviation Values: 22.342623460669, 22.074925793941, 19.696920500691
Object ID Field:
Fields:
None
Default Mosaic Method: Center
Allowed Mosaic Methods:
SortField:
SortValue: null
Mosaic Operator: First
Default Compression Quality: 75
Default Resampling Method: Bilinear
Max Record Count: null
Max Image Height: 4100
Max Image Width: 15000
Max Download Image Count: null
Max Mosaic Image Count: null
Allow Raster Function: true
Allow Copy: true
Allow Analysis: true
Allow Compute TiePoints: false
Supports Statistics: false
Supports Advanced Queries: false
Use StandardizedQueries: true
Raster Type Infos:
Name: Raster Dataset
Description: Supports all ArcGIS Raster Datasets
Help:
Has Raster Attribute Table: false
Edit Fields Info: null
Ownership Based AccessControl For Rasters: null
Child Resources:
Info
Histograms
Statistics
Key Properties
Legend
Raster Function Infos
Supported Operations:
Export Image
Identify
Measure
Compute Histograms
Compute Statistics Histograms
Get Samples
Compute Class Statistics
Query Boundary
Compute Pixel Location
Compute Angles
Validate
Project