View In:
ArcGIS JavaScript
ArcGIS Online Map Viewer
ArcGIS Earth
ArcMap
View Footprint In:
ArcGIS Online Map Viewer
Service Description: FireInsurancePlans/Thorold_1897_map_3
Name: FireInsurancePlans/Thorold_1897_map_3
Description:
Single Fused Map Cache: false
Extent:
XMin: 646119.255995183
YMin: 4776281.6581212515
XMax: 646538.5772955524
YMax: 4776636.563158588
Spatial Reference: 26917
(26917)
Initial Extent:
XMin: 646119.255995183
YMin: 4776281.6581212515
XMax: 646538.5772955524
YMax: 4776636.563158588
Spatial Reference: 26917
(26917)
Full Extent:
XMin: 646119.255995183
YMin: 4776281.6581212515
XMax: 646538.5772955524
YMax: 4776636.563158588
Spatial Reference: 26917
(26917)
Pixel Size X: 0.06994517103742087
Pixel Size Y: 0.04931976616676646
Band Count: 3
Pixel Type: U8
RasterFunction Infos: {"rasterFunctionInfos": [{
"name": "None",
"description": "",
"help": ""
}]}
Mensuration Capabilities: Basic
Has Histograms: true
Has Colormap: false
Has Multi Dimensions : false
Rendering Rule:
Min Scale: 0
Max Scale: 0
Copyright Text:
Service Data Type: esriImageServiceDataTypeRGB
Min Values: 34, 29, 20
Max Values: 226, 221, 214
Mean Values: 201.82348503777, 185.95177146416, 168.07251892789
Standard Deviation Values: 21.413063008873, 19.143100291751, 18.178703758232
Object ID Field:
Fields:
None
Default Mosaic Method: Center
Allowed Mosaic Methods:
SortField:
SortValue: null
Mosaic Operator: First
Default Compression Quality: 75
Default Resampling Method: Bilinear
Max Record Count: null
Max Image Height: 4100
Max Image Width: 15000
Max Download Image Count: null
Max Mosaic Image Count: null
Allow Raster Function: true
Allow Copy: true
Allow Analysis: true
Allow Compute TiePoints: false
Supports Statistics: false
Supports Advanced Queries: false
Use StandardizedQueries: true
Raster Type Infos:
Name: Raster Dataset
Description: Supports all ArcGIS Raster Datasets
Help:
Has Raster Attribute Table: false
Edit Fields Info: null
Ownership Based AccessControl For Rasters: null
Child Resources:
Info
Histograms
Statistics
Key Properties
Legend
Raster Function Infos
Supported Operations:
Export Image
Identify
Measure
Compute Histograms
Compute Statistics Histograms
Get Samples
Compute Class Statistics
Query Boundary
Compute Pixel Location
Compute Angles
Validate
Project