View In:
ArcGIS JavaScript
ArcGIS Online Map Viewer
ArcGIS Earth
ArcMap
View Footprint In:
ArcGIS Online Map Viewer
Service Description: FireInsurancePlans/Thorold_map_1a_1897_tif
Name: FireInsurancePlans/Thorold_map_1a_1897_tif
Description:
Single Fused Map Cache: false
Extent:
XMin: 646205.0481521732
YMin: 4776772.874914492
XMax: 646625.1635539363
YMax: 4777115.962456912
Spatial Reference: 26917
(26917)
Initial Extent:
XMin: 646205.0481521732
YMin: 4776772.874914492
XMax: 646625.1635539363
YMax: 4777115.962456912
Spatial Reference: 26917
(26917)
Full Extent:
XMin: 646205.0481521732
YMin: 4776772.874914492
XMax: 646625.1635539363
YMax: 4777115.962456912
Spatial Reference: 26917
(26917)
Pixel Size X: 0.07001923362718662
Pixel Size Y: 0.04774388288620278
Band Count: 3
Pixel Type: U8
RasterFunction Infos: {"rasterFunctionInfos": [{
"name": "None",
"description": "",
"help": ""
}]}
Mensuration Capabilities: Basic
Has Histograms: true
Has Colormap: false
Has Multi Dimensions : false
Rendering Rule:
Min Scale: 0
Max Scale: 0
Copyright Text:
Service Data Type: esriImageServiceDataTypeRGB
Min Values: 34, 29, 23
Max Values: 255, 255, 255
Mean Values: 207.60740312182, 192.07467997961, 174.09700083492
Standard Deviation Values: 27.221584600889, 30.728975403591, 36.504712726407
Object ID Field:
Fields:
None
Default Mosaic Method: Center
Allowed Mosaic Methods:
SortField:
SortValue: null
Mosaic Operator: First
Default Compression Quality: 75
Default Resampling Method: Bilinear
Max Record Count: null
Max Image Height: 4100
Max Image Width: 15000
Max Download Image Count: null
Max Mosaic Image Count: null
Allow Raster Function: true
Allow Copy: true
Allow Analysis: true
Allow Compute TiePoints: false
Supports Statistics: false
Supports Advanced Queries: false
Use StandardizedQueries: true
Raster Type Infos:
Name: Raster Dataset
Description: Supports all ArcGIS Raster Datasets
Help:
Has Raster Attribute Table: false
Edit Fields Info: null
Ownership Based AccessControl For Rasters: null
Child Resources:
Info
Histograms
Statistics
Key Properties
Legend
Raster Function Infos
Supported Operations:
Export Image
Identify
Measure
Compute Histograms
Compute Statistics Histograms
Get Samples
Compute Class Statistics
Query Boundary
Compute Pixel Location
Compute Angles
Validate
Project