View In:
ArcGIS JavaScript
ArcGIS Online Map Viewer
ArcGIS Earth
ArcMap
View Footprint In:
ArcGIS Online Map Viewer
Service Description: Historical map showing roads, transportation, political and cultural features, legend.
Digital reproduction of map (60 x 84 cm.) in the Map, Data and GIS Library, Brock University.
Relief shown by contours. Contour interval 25 feet.
Georeferenced and modified from the "Canada 2 miles to 1 inch" map series, "Ontario, Niagara Peninsula" sheet by Map, Data and GIS Library, Brock University.
Name: NiagaraTopos/NiagaraPeninsula1932126720
Description: Historical map showing roads, transportation, political and cultural features, legend.
Digital reproduction of map (60 x 84 cm.) in the Map, Data and GIS Library, Brock University.
Relief shown by contours. Contour interval 25 feet.
Georeferenced and modified from the "Canada 2 miles to 1 inch" map series, "Ontario, Niagara Peninsula" sheet by Map, Data and GIS Library, Brock University.
Single Fused Map Cache: false
Extent:
XMin: 578804.3514626453
YMin: 4741803.213464252
XMax: 676894.2821137886
YMax: 4796406.17021545
Spatial Reference: 26917
(26917)
Initial Extent:
XMin: 578804.3514626453
YMin: 4741803.213464252
XMax: 676894.2821137886
YMax: 4796406.17021545
Spatial Reference: 26917
(26917)
Full Extent:
XMin: 578804.3514626453
YMin: 4741803.213464252
XMax: 676894.2821137886
YMax: 4796406.17021545
Spatial Reference: 26917
(26917)
Pixel Size X: 10.760194235535685
Pixel Size Y: 10.831770829438307
Band Count: 3
Pixel Type: U8
RasterFunction Infos: {"rasterFunctionInfos": [{
"name": "None",
"description": "",
"help": ""
}]}
Mensuration Capabilities: Basic
Has Histograms: true
Has Colormap: false
Has Multi Dimensions : false
Rendering Rule:
Min Scale: 0
Max Scale: 0
Copyright Text: Map, Data & GIS Library, Brock University.
Service Data Type: esriImageServiceDataTypeRGB
Min Values: 56, 75, 27
Max Values: 255, 255, 255
Mean Values: 210.36219588464, 215.9066468908, 194.02053594713
Standard Deviation Values: 25.203388964322, 22.571777074988, 26.399213418197
Object ID Field:
Fields:
None
Default Mosaic Method: Center
Allowed Mosaic Methods:
SortField:
SortValue: null
Mosaic Operator: First
Default Compression Quality: 75
Default Resampling Method: Bilinear
Max Record Count: null
Max Image Height: 4100
Max Image Width: 15000
Max Download Image Count: null
Max Mosaic Image Count: null
Allow Raster Function: true
Allow Copy: true
Allow Analysis: true
Allow Compute TiePoints: false
Supports Statistics: false
Supports Advanced Queries: false
Use StandardizedQueries: true
Raster Type Infos:
Name: Raster Dataset
Description: Supports all ArcGIS Raster Datasets
Help:
Has Raster Attribute Table: false
Edit Fields Info: null
Ownership Based AccessControl For Rasters: null
Child Resources:
Info
Histograms
Statistics
Key Properties
Legend
Raster Function Infos
Supported Operations:
Export Image
Identify
Measure
Compute Histograms
Compute Statistics Histograms
Get Samples
Compute Class Statistics
Query Boundary
Compute Pixel Location
Compute Angles
Validate
Project