View In:
ArcGIS JavaScript
ArcGIS Online Map Viewer
ArcGIS Earth
ArcMap
View Footprint In:
ArcGIS Online Map Viewer
Service Description: RemoteSensing/PHR1B_MS_202106241623403_ORT_6207431101_2_tif
Name: RemoteSensing/PHR1B_MS_202106241623403_ORT_6207431101_2_tif
Description:
Single Fused Map Cache: false
Extent:
XMin: 619782
YMin: 4770924
XMax: 624500
YMax: 4784976
Spatial Reference: 32617
(32617)
Initial Extent:
XMin: 619782
YMin: 4770924
XMax: 624500
YMax: 4784976
Spatial Reference: 32617
(32617)
Full Extent:
XMin: 619782
YMin: 4770924
XMax: 624500
YMax: 4784976
Spatial Reference: 32617
(32617)
Pixel Size X: 2.0
Pixel Size Y: 2.0
Band Count: 4
Pixel Type: U16
RasterFunction Infos: {"rasterFunctionInfos": [{
"name": "None",
"description": "",
"help": ""
}]}
Mensuration Capabilities: Basic
Has Histograms: true
Has Colormap: false
Has Multi Dimensions : false
Rendering Rule:
Min Scale: 0
Max Scale: 0
Copyright Text:
Service Data Type: esriImageServiceDataTypeGeneric
Min Values: 1, 1, 1, 1
Max Values: 10801, 11090, 10187, 10123
Mean Values: 877.97607159827, 954.0113221108, 756.90898300424, 2780.2148587351
Standard Deviation Values: 575.81668672795, 487.87614858921, 434.54753966749, 870.22366282549
Object ID Field:
Fields:
None
Default Mosaic Method: Center
Allowed Mosaic Methods:
SortField:
SortValue: null
Mosaic Operator: First
Default Compression Quality: 75
Default Resampling Method: Bilinear
Max Record Count: null
Max Image Height: 4100
Max Image Width: 15000
Max Download Image Count: null
Max Mosaic Image Count: null
Allow Raster Function: true
Allow Copy: true
Allow Analysis: true
Allow Compute TiePoints: false
Supports Statistics: false
Supports Advanced Queries: false
Use StandardizedQueries: true
Raster Type Infos:
Name: Raster Dataset
Description: Supports all ArcGIS Raster Datasets
Help:
Has Raster Attribute Table: false
Edit Fields Info: null
Ownership Based AccessControl For Rasters: null
Child Resources:
Info
Histograms
Statistics
Key Properties
Legend
Raster Function Infos
Supported Operations:
Export Image
Identify
Measure
Compute Histograms
Compute Statistics Histograms
Get Samples
Compute Class Statistics
Query Boundary
Compute Pixel Location
Compute Angles
Validate
Project