View In:
ArcGIS JavaScript
ArcGIS Online Map Viewer
ArcGIS Earth
ArcMap
View Footprint In:
ArcGIS Online Map Viewer
Service Description: RemoteSensing/Thorold_LG4_26JUL16_MS_P001_tif
Name: RemoteSensing/Thorold_LG4_26JUL16_MS_P001_tif
Description:
Single Fused Map Cache: false
Extent:
XMin: 649833.6
YMin: 4769940
XMax: 654330
YMax: 4780468.8
Spatial Reference: 32617
(32617)
Initial Extent:
XMin: 649833.6
YMin: 4769940
XMax: 654330
YMax: 4780468.8
Spatial Reference: 32617
(32617)
Full Extent:
XMin: 649833.6
YMin: 4769940
XMax: 654330
YMax: 4780468.8
Spatial Reference: 32617
(32617)
Pixel Size X: 1.2000000000000062
Pixel Size Y: 1.1999999999999789
Band Count: 8
Pixel Type: U16
RasterFunction Infos: {"rasterFunctionInfos": [{
"name": "None",
"description": "",
"help": ""
}]}
Mensuration Capabilities: Basic
Has Histograms: true
Has Colormap: false
Has Multi Dimensions : false
Rendering Rule:
Min Scale: 0
Max Scale: 0
Copyright Text:
Service Data Type: esriImageServiceDataTypeGeneric
Min Values: 734, 1, 1, 1, 1, 1, 1, 1
Max Values: 12962, 18691, 19446, 19179, 21082, 20811, 20351, 19837
Mean Values: 1454.2530942422, 914.5632247175, 1473.070056001, 1436.7933024962, 1283.5550093157, 1930.042786174, 4976.3861063653, 5740.614966648
Standard Deviation Values: 310.56689093573, 410.44745982391, 531.82358955545, 724.36235420151, 870.5762396217, 845.22486417862, 1640.8155231645, 2251.7873423847
Object ID Field:
Fields:
None
Default Mosaic Method: Center
Allowed Mosaic Methods:
SortField:
SortValue: null
Mosaic Operator: First
Default Compression Quality: 75
Default Resampling Method: Bilinear
Max Record Count: null
Max Image Height: 4100
Max Image Width: 15000
Max Download Image Count: null
Max Mosaic Image Count: null
Allow Raster Function: true
Allow Copy: true
Allow Analysis: true
Allow Compute TiePoints: false
Supports Statistics: false
Supports Advanced Queries: false
Use StandardizedQueries: true
Raster Type Infos:
Name: Raster Dataset
Description: Supports all ArcGIS Raster Datasets
Help:
Has Raster Attribute Table: false
Edit Fields Info: null
Ownership Based AccessControl For Rasters: null
Child Resources:
Info
Histograms
Statistics
Key Properties
Legend
Raster Function Infos
Supported Operations:
Export Image
Identify
Measure
Compute Histograms
Compute Statistics Histograms
Get Samples
Compute Class Statistics
Query Boundary
Compute Pixel Location
Compute Angles
Validate
Project