View In:
ArcGIS JavaScript
ArcGIS Online Map Viewer
ArcGIS Earth
ArcMap
View Footprint In:
ArcGIS Online Map Viewer
Service Description: Overview
This Image Service provides a single raster dataset of multispectral aerial imagery for the Thorold area in southern Ontario. It is delivered as a TIFF dataset with 8 bands, U16 pixel values, and 1.2 meter pixel size, covering a local area around Thorold and Niagara Falls in UTM Zone 17N. The service supports image, metadata, and mensuration access, with copying and analysis enabled.
The imagery contains continuous raster values and supports basic measurements and raster analysis workflows.
Band Characteristics
The dataset contains 8 spectral bands from visible through near infrared wavelengths.
Coastal (0.400 - 0.450 µm)
Blue (0.450 - 0.510 µm)
Green (0.510 - 0.580 µm)
Yellow (0.585 - 0.625 µm)
Red (0.630 - 0.690 µm)
Red Edge (0.695 - 0.715 µm)
Red Edge2 (0.730 - 0.750 µm)
Near Infrared (0.770 - 0.895 µm)
Band value ranges are recorded from 1 to 22,672 across the service. Mean values range from 864.21 to 5,671.69, with standard deviations from 287.99 to 2,256.76.
Raster Properties
Pixel Type: U16
Pixel Size: 1.2 by 1.2 meters
Dataset Format: TIFF
Compression: None
Resampling Method: Bilinear
NoData Value: 0
Tile Size: 256 by 256
Maximum Image Size: 15000 by 4100 pixels
Histogram Availability: Yes
Raster Functions: None
The service is a dataset-based image source with basic mensuration capabilities and raster analysis support. Query operations use standardized queries.
Geographic Coverage
The imagery covers a local area in southern Ontario, centered on Thorold and nearby communities.
Spatial Reference: UTM Zone 17N, EPSG 32617
Use Cases
This service supports viewing, measuring, and analyzing multispectral imagery for local area mapping and interpretation. Users can export imagery, inspect metadata, and perform basic measurements through the service interface.
Name: RemoteSensing/Thorold_LG4_26JUL16_MS_P002_tif
Description: Overview
This Image Service provides a single raster dataset of multispectral aerial imagery for the Thorold area in southern Ontario. It is delivered as a TIFF dataset with 8 bands, U16 pixel values, and 1.2 meter pixel size, covering a local area around Thorold and Niagara Falls in UTM Zone 17N. The service supports image, metadata, and mensuration access, with copying and analysis enabled.
The imagery contains continuous raster values and supports basic measurements and raster analysis workflows.
Band Characteristics
The dataset contains 8 spectral bands from visible through near infrared wavelengths.
Coastal (0.400 - 0.450 µm)
Blue (0.450 - 0.510 µm)
Green (0.510 - 0.580 µm)
Yellow (0.585 - 0.625 µm)
Red (0.630 - 0.690 µm)
Red Edge (0.695 - 0.715 µm)
Red Edge2 (0.730 - 0.750 µm)
Near Infrared (0.770 - 0.895 µm)
Band value ranges are recorded from 1 to 22,672 across the service. Mean values range from 864.21 to 5,671.69, with standard deviations from 287.99 to 2,256.76.
Raster Properties
Pixel Type: U16
Pixel Size: 1.2 by 1.2 meters
Dataset Format: TIFF
Compression: None
Resampling Method: Bilinear
NoData Value: 0
Tile Size: 256 by 256
Maximum Image Size: 15000 by 4100 pixels
Histogram Availability: Yes
Raster Functions: None
The service is a dataset-based image source with basic mensuration capabilities and raster analysis support. Query operations use standardized queries.
Geographic Coverage
The imagery covers a local area in southern Ontario, centered on Thorold and nearby communities.
Spatial Reference: UTM Zone 17N, EPSG 32617
Use Cases
This service supports viewing, measuring, and analyzing multispectral imagery for local area mapping and interpretation. Users can export imagery, inspect metadata, and perform basic measurements through the service interface.
Single Fused Map Cache: false
Extent:
XMin: 641130
YMin: 4769756.399999999
XMax: 651093.6
YMax: 4780395.6
Spatial Reference: 32617
(32617)
Initial Extent:
XMin: 641130
YMin: 4769756.399999999
XMax: 651093.6
YMax: 4780395.6
Spatial Reference: 32617
(32617)
Full Extent:
XMin: 641130
YMin: 4769756.399999999
XMax: 651093.6
YMax: 4780395.6
Spatial Reference: 32617
(32617)
Pixel Size X: 1.1999999999999973
Pixel Size Y: 1.200000000000021
Band Count: 8
Pixel Type: U16
RasterFunction Infos: {"rasterFunctionInfos": [{
"name": "None",
"description": "",
"help": ""
}]}
Mensuration Capabilities: Basic
Has Histograms: true
Has Colormap: false
Has Multi Dimensions : false
Rendering Rule:
Min Scale: 0
Max Scale: 0
Copyright Text: Landinfo LLC, 2026
Service Data Type: esriImageServiceDataTypeGeneric
Min Values: 1, 1, 1, 1, 1, 1, 1, 1
Max Values: 18223, 18039, 19207, 20927, 22020, 21713, 22672, 21439
Mean Values: 1357.40818094, 864.21431192961, 1514.2800010415, 1465.9255460296, 1307.3557375868, 1969.7025700821, 4963.1417739675, 5671.6923319148
Standard Deviation Values: 287.99340049866, 375.85741650697, 501.33802323893, 692.45898694712, 848.72260054421, 839.37774856279, 1640.1791146474, 2256.7560889733
Object ID Field:
Fields:
None
Default Mosaic Method: Center
Allowed Mosaic Methods:
SortField:
SortValue: null
Mosaic Operator: First
Default Compression Quality: 75
Default Resampling Method: Bilinear
Max Record Count: null
Max Image Height: 4100
Max Image Width: 15000
Max Download Image Count: null
Max Mosaic Image Count: null
Allow Raster Function: true
Allow Copy: true
Allow Analysis: true
Allow Compute TiePoints: false
Supports Statistics: false
Supports Advanced Queries: false
Use StandardizedQueries: true
Raster Type Infos:
Name: Raster Dataset
Description: Supports all ArcGIS Raster Datasets
Help:
Has Raster Attribute Table: false
Edit Fields Info: null
Ownership Based AccessControl For Rasters: null
Child Resources:
Info
Histograms
Statistics
Key Properties
Legend
Raster Function Infos
Supported Operations:
Export Image
Identify
Measure
Compute Histograms
Compute Statistics Histograms
Get Samples
Compute Class Statistics
Query Boundary
Compute Pixel Location
Compute Angles
Validate
Project