View In:
ArcGIS JavaScript
ArcGIS Online Map Viewer
ArcGIS Earth
ArcMap
View Footprint In:
ArcGIS Online Map Viewer
Service Description: Welland Canal Shikluna Shipyard
Name: WellandCanal/Bk1Map11_Locks3_4
Description: Welland Canal Shikluna Shipyard
Single Fused Map Cache: false
Extent:
XMin: 642483.5146373028
YMin: 4778904.953218612
XMax: 643391.8979373028
YMax: 4780337.743742612
Spatial Reference: 26917
(26917)
Initial Extent:
XMin: 642483.5146373028
YMin: 4778904.953218612
XMax: 643391.8979373028
YMax: 4780337.743742612
Spatial Reference: 26917
(26917)
Full Extent:
XMin: 642483.5146373028
YMin: 4778904.953218612
XMax: 643391.8979373028
YMax: 4780337.743742612
Spatial Reference: 26917
(26917)
Pixel Size X: 0.24550899999999642
Pixel Size Y: 0.24550900000005174
Band Count: 3
Pixel Type: U16
RasterFunction Infos: {"rasterFunctionInfos": [{
"name": "None",
"description": "",
"help": ""
}]}
Mensuration Capabilities: Basic
Has Histograms: true
Has Colormap: false
Has Multi Dimensions : false
Rendering Rule:
Min Scale: 0
Max Scale: 0
Copyright Text:
Service Data Type: esriImageServiceDataTypeGeneric
Min Values: 5, 39, 4
Max Values: 255, 255, 244
Mean Values: 227.39539146688, 214.2669040502, 168.11474304762
Standard Deviation Values: 21.563215256837, 20.394070449301, 18.779036932163
Object ID Field:
Fields:
None
Default Mosaic Method: Center
Allowed Mosaic Methods:
SortField:
SortValue: null
Mosaic Operator: First
Default Compression Quality: 75
Default Resampling Method: Bilinear
Max Record Count: null
Max Image Height: 4100
Max Image Width: 15000
Max Download Image Count: null
Max Mosaic Image Count: null
Allow Raster Function: true
Allow Copy: true
Allow Analysis: true
Allow Compute TiePoints: false
Supports Statistics: false
Supports Advanced Queries: false
Use StandardizedQueries: true
Raster Type Infos:
Name: Raster Dataset
Description: Supports all ArcGIS Raster Datasets
Help:
Has Raster Attribute Table: false
Edit Fields Info: null
Ownership Based AccessControl For Rasters: null
Child Resources:
Info
Histograms
Statistics
Key Properties
Legend
Raster Function Infos
Supported Operations:
Export Image
Identify
Measure
Compute Histograms
Compute Statistics Histograms
Get Samples
Compute Class Statistics
Query Boundary
Compute Pixel Location
Compute Angles
Validate
Project