View In:
ArcGIS JavaScript
ArcGIS Online Map Viewer
ArcGIS Earth
ArcMap
View Footprint In:
ArcGIS Online Map Viewer
Service Description: Book 2, Map 10, Welland Canal
Name: WellandCanal/Bk2_Map10
Description: Book 2, Map 10, Welland Canal
Single Fused Map Cache: false
Extent:
XMin: 645412.7490397054
YMin: 4773837.98252015
XMax: 646526.9940397054
YMax: 4775254.85646215
Spatial Reference: 26917
(26917)
Initial Extent:
XMin: 645412.7490397054
YMin: 4773837.98252015
XMax: 646526.9940397054
YMax: 4775254.85646215
Spatial Reference: 26917
(26917)
Full Extent:
XMin: 645412.7490397054
YMin: 4773837.98252015
XMax: 646526.9940397054
YMax: 4775254.85646215
Spatial Reference: 26917
(26917)
Pixel Size X: 0.22284899999999908
Pixel Size Y: 0.222848999999978
Band Count: 3
Pixel Type: U16
RasterFunction Infos: {"rasterFunctionInfos": [{
"name": "None",
"description": "",
"help": ""
}]}
Mensuration Capabilities: Basic
Has Histograms: true
Has Colormap: false
Has Multi Dimensions : false
Rendering Rule:
Min Scale: 0
Max Scale: 0
Copyright Text:
Service Data Type: esriImageServiceDataTypeGeneric
Min Values: 18, 22, 1
Max Values: 255, 255, 255
Mean Values: 248.79820490393, 233.8665656893, 189.0242444857
Standard Deviation Values: 18.516471733981, 16.764761998951, 21.275448788835
Object ID Field:
Fields:
None
Default Mosaic Method: Center
Allowed Mosaic Methods:
SortField:
SortValue: null
Mosaic Operator: First
Default Compression Quality: 75
Default Resampling Method: Bilinear
Max Record Count: null
Max Image Height: 4100
Max Image Width: 15000
Max Download Image Count: null
Max Mosaic Image Count: null
Allow Raster Function: true
Allow Copy: true
Allow Analysis: true
Allow Compute TiePoints: false
Supports Statistics: false
Supports Advanced Queries: false
Use StandardizedQueries: true
Raster Type Infos:
Name: Raster Dataset
Description: Supports all ArcGIS Raster Datasets
Help:
Has Raster Attribute Table: false
Edit Fields Info: null
Ownership Based AccessControl For Rasters: null
Child Resources:
Info
Histograms
Statistics
Key Properties
Legend
Raster Function Infos
Supported Operations:
Export Image
Identify
Measure
Compute Histograms
Compute Statistics Histograms
Get Samples
Compute Class Statistics
Query Boundary
Compute Pixel Location
Compute Angles
Validate
Project