View In:
ArcGIS JavaScript
ArcGIS Online Map Viewer
ArcGIS Earth
ArcMap
View Footprint In:
ArcGIS Online Map Viewer
Service Description: Book 3, Map 11, Welland Canal
Name: WellandCanal/Bk3_Map11
Description: Book 3, Map 11, Welland Canal
Single Fused Map Cache: false
Extent:
XMin: 642508.9692571445
YMin: 4761451.385771999
XMax: 643630.7759671445
YMax: 4763005.304234999
Spatial Reference: 26917
(26917)
Initial Extent:
XMin: 642508.9692571445
YMin: 4761451.385771999
XMax: 643630.7759671445
YMax: 4763005.304234999
Spatial Reference: 26917
(26917)
Full Extent:
XMin: 642508.9692571445
YMin: 4761451.385771999
XMax: 643630.7759671445
YMax: 4763005.304234999
Spatial Reference: 26917
(26917)
Pixel Size X: 0.2275470000000068
Pixel Size Y: 0.22754700000001413
Band Count: 3
Pixel Type: U16
RasterFunction Infos: {"rasterFunctionInfos": [{
"name": "None",
"description": "",
"help": ""
}]}
Mensuration Capabilities: Basic
Has Histograms: true
Has Colormap: false
Has Multi Dimensions : false
Rendering Rule:
Min Scale: 0
Max Scale: 0
Copyright Text:
Service Data Type: esriImageServiceDataTypeGeneric
Min Values: 0, 0, 0
Max Values: 255, 255, 255
Mean Values: 246.69171877061, 234.52429213588, 210.13023430101
Standard Deviation Values: 27.218946538943, 28.861121052822, 25.784850372054
Object ID Field:
Fields:
None
Default Mosaic Method: Center
Allowed Mosaic Methods:
SortField:
SortValue: null
Mosaic Operator: First
Default Compression Quality: 75
Default Resampling Method: Bilinear
Max Record Count: null
Max Image Height: 4100
Max Image Width: 15000
Max Download Image Count: null
Max Mosaic Image Count: null
Allow Raster Function: true
Allow Copy: true
Allow Analysis: true
Allow Compute TiePoints: false
Supports Statistics: false
Supports Advanced Queries: false
Use StandardizedQueries: true
Raster Type Infos:
Name: Raster Dataset
Description: Supports all ArcGIS Raster Datasets
Help:
Has Raster Attribute Table: false
Edit Fields Info: null
Ownership Based AccessControl For Rasters: null
Child Resources:
Info
Histograms
Statistics
Key Properties
Legend
Raster Function Infos
Supported Operations:
Export Image
Identify
Measure
Compute Histograms
Compute Statistics Histograms
Get Samples
Compute Class Statistics
Query Boundary
Compute Pixel Location
Compute Angles
Validate
Project